BEGIN:VCALENDAR
VERSION:2.0
PRODID:-//Sortir à Melun ! - ECPv6.15.12.2//NONSGML v1.0//EN
CALSCALE:GREGORIAN
METHOD:PUBLISH
X-WR-CALNAME:Sortir à Melun !
X-ORIGINAL-URL:https://sortiramelun.fr
X-WR-CALDESC:Évènements pour Sortir à Melun !
REFRESH-INTERVAL;VALUE=DURATION:PT1H
X-Robots-Tag:noindex
X-PUBLISHED-TTL:PT1H
BEGIN:VTIMEZONE
TZID:Europe/Paris
BEGIN:DAYLIGHT
TZOFFSETFROM:+0100
TZOFFSETTO:+0200
TZNAME:CEST
DTSTART:20250330T010000
END:DAYLIGHT
BEGIN:STANDARD
TZOFFSETFROM:+0200
TZOFFSETTO:+0100
TZNAME:CET
DTSTART:20251026T010000
END:STANDARD
BEGIN:DAYLIGHT
TZOFFSETFROM:+0100
TZOFFSETTO:+0200
TZNAME:CEST
DTSTART:20260329T010000
END:DAYLIGHT
BEGIN:STANDARD
TZOFFSETFROM:+0200
TZOFFSETTO:+0100
TZNAME:CET
DTSTART:20261025T010000
END:STANDARD
BEGIN:DAYLIGHT
TZOFFSETFROM:+0100
TZOFFSETTO:+0200
TZNAME:CEST
DTSTART:20270328T010000
END:DAYLIGHT
BEGIN:STANDARD
TZOFFSETFROM:+0200
TZOFFSETTO:+0100
TZNAME:CET
DTSTART:20271031T010000
END:STANDARD
END:VTIMEZONE
BEGIN:VEVENT
DTSTART;TZID=Europe/Paris:20260627T150000
DTEND;TZID=Europe/Paris:20260627T170000
DTSTAMP:20260420T200020
CREATED:20260420T123153Z
LAST-MODIFIED:20260420T123153Z
UID:10001883-1782572400-1782579600@sortiramelun.fr
SUMMARY:Conférence musicale - La musique engagée par Régis Aubert
DESCRIPTION:Présentation\n\n\n\n\n\nUne rencontre avec le conférencier Régis Aubert pour découvrir les grandes luttes portées par les notes. Et si la musique était aussi un moyen d’émancipation sociale et politique ? \n\n\n\n\n\n\nGratuit \nEntrée libre \nPublic dès 15 ans \n\n\nMédiathèque Astrolabe\n\n\n25\, rue du château 77000 Melun\n\n01 60 56 04 70\ncontact@astrolabe-melun.fr
URL:https://sortiramelun.fr/evenement/conference-musicale-la-musique-engagee-par-regis-aubert/
LOCATION:Médiathèque Astrolabe\, 25\, rue du Château\, MELUN\, 77000\, France
CATEGORIES:Conférence musicale,Rencontre
ATTACH;FMTTYPE=image/jpeg:https://sortiramelun.fr/wp-content/uploads/2026/04/Conference-musicale2lowjuin2026-scaled.jpg
ORGANIZER;CN="M%C3%A9diath%C3%A8que Astrolabe":MAILTO:contact@astrolabe-melun.fr
END:VEVENT
END:VCALENDAR