BEGIN:VCALENDAR
VERSION:2.0
PRODID:-//Sortir à Melun ! - ECPv6.15.12.2//NONSGML v1.0//EN
CALSCALE:GREGORIAN
METHOD:PUBLISH
X-ORIGINAL-URL:https://sortiramelun.fr
X-WR-CALDESC:Évènements pour Sortir à Melun !
REFRESH-INTERVAL;VALUE=DURATION:PT1H
X-Robots-Tag:noindex
X-PUBLISHED-TTL:PT1H
BEGIN:VTIMEZONE
TZID:Europe/Paris
BEGIN:DAYLIGHT
TZOFFSETFROM:+0100
TZOFFSETTO:+0200
TZNAME:CEST
DTSTART:20250330T010000
END:DAYLIGHT
BEGIN:STANDARD
TZOFFSETFROM:+0200
TZOFFSETTO:+0100
TZNAME:CET
DTSTART:20251026T010000
END:STANDARD
BEGIN:DAYLIGHT
TZOFFSETFROM:+0100
TZOFFSETTO:+0200
TZNAME:CEST
DTSTART:20260329T010000
END:DAYLIGHT
BEGIN:STANDARD
TZOFFSETFROM:+0200
TZOFFSETTO:+0100
TZNAME:CET
DTSTART:20261025T010000
END:STANDARD
BEGIN:DAYLIGHT
TZOFFSETFROM:+0100
TZOFFSETTO:+0200
TZNAME:CEST
DTSTART:20270328T010000
END:DAYLIGHT
BEGIN:STANDARD
TZOFFSETFROM:+0200
TZOFFSETTO:+0100
TZNAME:CET
DTSTART:20271031T010000
END:STANDARD
END:VTIMEZONE
BEGIN:VEVENT
DTSTART;TZID=Europe/Paris:20260523T143000
DTEND;TZID=Europe/Paris:20260523T170000
DTSTAMP:20260420T173538
CREATED:20260420T101128Z
LAST-MODIFIED:20260420T101128Z
UID:10001878-1779546600-1779555600@sortiramelun.fr
SUMMARY:Contée en musique par Claire Rassinoux et Léa Decque
DESCRIPTION:Présentation\n\n\n\n\n\nDes histoires en musique\, en mouvement et en nature ! De la Boussole au verger des Carmes\, en passant par le Parc de Spelthorne. \n► Tout public \n\n\n\n\n\n\nSUR RESERVATION \n\n\nLa Boussole\n\n\n2\, rue Claude-Bernard 77000 Melun\n01 64 09 72 92 – 01 60 56 04 81 \n\nquartiers@astrolabe-melun.fr
URL:https://sortiramelun.fr/evenement/contee-en-musique-par-claire-rassinoux-et-lea-decque/
LOCATION:La Boussole\, 2 Rue Claude Bernard\, melun\, 77000\, France
CATEGORIES:Conte,Spectacles
ATTACH;FMTTYPE=image/jpeg:https://sortiramelun.fr/wp-content/uploads/2026/04/baladecontee500x500v2.jpg
ORGANIZER;CN="La Boussole":MAILTO:laboussole@ville-melun.fr
END:VEVENT
END:VCALENDAR