BEGIN:VCALENDAR
VERSION:2.0
PRODID:-//Sortir à Melun ! - ECPv6.15.12.2//NONSGML v1.0//EN
CALSCALE:GREGORIAN
METHOD:PUBLISH
X-ORIGINAL-URL:https://sortiramelun.fr
X-WR-CALDESC:Évènements pour Sortir à Melun !
REFRESH-INTERVAL;VALUE=DURATION:PT1H
X-Robots-Tag:noindex
X-PUBLISHED-TTL:PT1H
BEGIN:VTIMEZONE
TZID:Europe/Paris
BEGIN:DAYLIGHT
TZOFFSETFROM:+0100
TZOFFSETTO:+0200
TZNAME:CEST
DTSTART:20250330T010000
END:DAYLIGHT
BEGIN:STANDARD
TZOFFSETFROM:+0200
TZOFFSETTO:+0100
TZNAME:CET
DTSTART:20251026T010000
END:STANDARD
BEGIN:DAYLIGHT
TZOFFSETFROM:+0100
TZOFFSETTO:+0200
TZNAME:CEST
DTSTART:20260329T010000
END:DAYLIGHT
BEGIN:STANDARD
TZOFFSETFROM:+0200
TZOFFSETTO:+0100
TZNAME:CET
DTSTART:20261025T010000
END:STANDARD
BEGIN:DAYLIGHT
TZOFFSETFROM:+0100
TZOFFSETTO:+0200
TZNAME:CEST
DTSTART:20270328T010000
END:DAYLIGHT
BEGIN:STANDARD
TZOFFSETFROM:+0200
TZOFFSETTO:+0100
TZNAME:CET
DTSTART:20271031T010000
END:STANDARD
END:VTIMEZONE
BEGIN:VEVENT
DTSTART;TZID=Europe/Paris:20260507T203000
DTEND;TZID=Europe/Paris:20260507T223000
DTSTAMP:20260421T164019
CREATED:20260323T140726Z
LAST-MODIFIED:20260415T135424Z
UID:10001855-1778185800-1778193000@sortiramelun.fr
SUMMARY:Vernissage dansé des projections de Jean-François Rutschmann
DESCRIPTION:En partenariat avec  \n \n  \n  \n\n\n\n\n\n\n\n\n\n\n\n\n\nInstallation de JF Rutschmann au Conservatoire pour peindrePhoto des danseuses du Conservatoire les deux muses prise par Jean-François Rutschmann en juin 2024\n\n\n\n\n\n\n\n\n\n\n\n\n\n\n\n\nPrésentation\n\n\n\nIls en parlent...\n\n\n\n\n\nLa danse investit les bords de Seine et la terrasse de l’Astrolabe/Maison du Citoyen\nEn amont des Portes Ouvertes du Conservatoire Les Deux Muses\, plusieurs groupes de danseuses se produiront sur une scène en bordure de Seine et sur la terrasse de la Maison du Citoyen et de l’Europe. \nJazz\, classique et contemporain\, les trois types de danse seront à l’honneur avec des prestations de chaque discipline dès 20h30. \nEnsuite\, vers 21h30\, l’artiste Jean-François Rutschmann présentera les projections LUMEN des dessins de danse qu’il a réalisé pendant de nombreuses journées passées au Conservatoire de Melun en 2024. \n« [J’] avai[s] fait un travail pour les 10 ans du Conservatoire les Deux muses\, et on dessinait les répétitions des élèves de dernière année de danse\, en jazz\, classique et contemporain »\, explique l’artiste du Mée sur Seine à la République de Seine et Marne. \nEn plus des dessins\, des photos artistiques d’élèves seront aussi présentées sur la façade de la Cité administrative de Melun\, à la nuit tombée\, pour que le mouvement dansé s’invite dans le quotidien des Melunais chaque soir du mois. \nCe passionné de danse\, connu aussi pour ses photos au sein du collectif L’Oeil Ouvert\, cherche avec son art à «retrouver l’essence du travail de la ballerine». Ses encres minimalistes captent le mouvement des danseuses\, leurs attitudes\, leur grâce… \nLe vernissage permettra de partager un moment de convivialité et de lancer la saison estivale de LUMEN. \nLes projections LUMEN de Jean-François Rutschmann seront visibles tout le mois de mai\, du mardi au samedi\, du coucher du soleil jusqu’à minuit. \n\n\n\n\nMelun : Michel Saintillan et Jean-François Rutschmann exposent leurs dessins de danse à la galerie Saint-Jacques\nPar Paul VarenguinPublié le 17 mars 2026  \nDu mardi 17 au dimanche 29 mars 2026\, Michel Saintillan et Jean-François Rutschmann exposent leurs dessins sur la danse à la Galerie Saint-Jacques\, à Melun (Seine-et-Marne). \nS’ils ont tous deux leur propre style\, ils ont en commun l’amour du dessin. Et cela tombe bien\, c’est bel et bien l’objet de la prochaine exposition proposée par Jean-François Rutschmann et Michel Saintillan à la Galerie Saint-Jacques\, à Melun (Seine-et-Marne). \nPortant sur le thème de la danse\, elle aura lieu du mardi 17 au dimanche 29 mars 2026. Présentation. \nGenèse\nL’aventure de cette exposition\, composée de quelque 70 dessins\, trouve ses origines dans un travail mené au premier semestre 2024 par les deux amis\, qui se connaissent depuis 11 ans. « On avait fait un travail pour les 10 ans du Conservatoire les Deux muses\, et on dessinait les répétitions des élèves de dernière année de danse\, en jazz\, classique et contemporain. On a exposé ensuite à plusieurs endroits\, et les dessins ont\, finalement\, terminé dans des cartons »\, se souvient Jean-François Rutschmann. \nÀ l’époque\, de nombreux dessins avaient été réalisés\, et chacun avait déjà sa petite touche. « Jean-François dessinait tout sur place. Moi\, j’ai plus de mal\, donc je reprenais les dessins après coup »\, précise Michel Saintillan. \n  \n\n\n\n\n\n\nEntrée libre\n\nRéservation par email conseillée lumen@ville-melun.fr \n\n\n\n20h30 Démonstrations de danse sur scène au pied de l’Astrolabe et sur la terrasse\n21h30 Vernissage des projections avec l’artiste sur la terrasse + pot
URL:https://sortiramelun.fr/evenement/vernissage-danse-des-projections-de-jean-francois-rutschmann/
LOCATION:Maison du Citoyen\, 25 rue du chateau\, Melun\, 77000\, France
CATEGORIES:Aquarelle,Danse,Danse Classique,Dessin,Exposition,Performance,Projection LUMEN
ATTACH;FMTTYPE=image/jpeg:https://sortiramelun.fr/wp-content/uploads/2026/04/Photo-danse-LUMEN-7-mai-2026-V2-scaled.jpg
END:VEVENT
BEGIN:VEVENT
DTSTART;VALUE=DATE:20260518
DTEND;VALUE=DATE:20260524
DTSTAMP:20260421T164019
CREATED:20260323T131344Z
LAST-MODIFIED:20260407T121941Z
UID:10001857-1779062400-1779580799@sortiramelun.fr
SUMMARY:PORTES OUVERTES AU CONSERVATOIRE LES DEUX MUSES
DESCRIPTION:Portes Ouvertes du Conservatoire – du 18 au 23 mai \n\nLe Conservatoire Les Deux Muses vous accueille du 18 au 23 mai pour une semaine de découverte : cours ouverts\, rencontres avec les enseignants\, ateliers d’initiation et visites des espaces dédiés à la musique et à la danse. \nQue vous envisagiez une inscription ou souhaitiez simplement découvrir nos activités\, venez partager un moment convivial au cœur de la vie du Conservatoire. \n\n\n\n\n\n\n\n\n\n\n\n\n\n\n\n	Par les conservatoires de MELUN et VAUX-LE-PENIL\n\n\n\n\n\n\n\n\n\n\n\n\n\n\nEn partenariat avec le conservatoire de VAUX LE PENIL \n\n\n\n\n\n\n\n\n\n\n\n\n\n\n\n\n\n\n\n\n\n\n\n\n\n\n\n\n\n\nPrésentation\n\n\n\nGénérique\n\n\n\n\n\nPortes Ouvertes du Conservatoire Les Deux Muses \n\nLe Conservatoire Les Deux Muses vous ouvre ses portes et vous invite à découvrir la richesse de ses enseignements artistiques ! Tout au long de cette journée\, enseignants\, élèves et équipes pédagogiques seront présents pour vous accueillir\, vous présenter les différentes disciplines\, répondre à vos questions et vous faire partager la vie du conservatoire. \nC’est l’occasion idéale pour assister à des démonstrations\, rencontrer les professeurs\, découvrir les instruments\, visiter les locaux et explorer l’ensemble des pratiques proposées : musique\, danse\, théâtre\, et bien plus encore. \nÀ noter : pendant toute la période des Portes Ouvertes\, les dossiers de préinscription pour la rentrée 2026‑2027 seront disponibles.\nLes familles pourront les retirer sur place\, obtenir des informations personnalisées et être accompagnées dans leurs démarches. \nNous vous attendons nombreux pour partager un moment convivial et artistique au cœur du Conservatoire Les Deux Muses ! \n\n\n\n\nAvec l’ensemble des professeurs de musique\, danse et de théâtre \n\n\n\n\n\n\nGratuit\nEntrée libre\n\n\n\n\n\n\n\n\nLe programme des Portes Ouvertes 2026
URL:https://sortiramelun.fr/evenement/portes-ouvertes-au-conservatoire-les-deux-muses/
LOCATION:Conservatoire Les Deux Muses\, 26 Avenue Georges Pompidou\, Melun\, 77000\, France
ATTACH;FMTTYPE=image/png:https://sortiramelun.fr/wp-content/uploads/2026/03/PO5.png
END:VEVENT
BEGIN:VEVENT
DTSTART;TZID=Europe/Paris:20260522T203000
DTEND;TZID=Europe/Paris:20260522T220000
DTSTAMP:20260421T164019
CREATED:20260323T150139Z
LAST-MODIFIED:20260323T150139Z
UID:10001859-1779481800-1779487200@sortiramelun.fr
SUMMARY:CONCERT DE L'ORCHESTRE D'HARMONIE DES CONSERVATOIRES PARTENAIRES
DESCRIPTION:Direction d’Orchestre : Cécile Montbessoux\n\n\n\n\n\n\n\n\n\n\n\n\n\n\nEn partenariat avec le conservatoire de Vaux-le-Pénil \n\n\n\n\n\n\n\n\n\n\n\n\n\n\n\n\n\n\n\n\n\n\n\n\n\n\n\n\n\n\nPrésentation de la Cheffe d′Orchestre\n\n\n\n\n\nCécile Montbessoux : Cheffe d’orchestre – Fondatrice de l’Orchestre d’Harmonie des Conservatoires Partenaires\n\nProfesseure de clarinette et cheffe d’orchestre\, Cécile Montbessoux est à l’initiative de la création de l’Orchestre d’Harmonie des Conservatoires Partenaires. Forte d’un parcours dédié à la direction d’ensembles\, elle fonde cet orchestre il y a plusieurs années au Conservatoire de Vaux‑le‑Pénil\, avec l’ambition de rassembler musiciens en formation et amateurs autour d’un projet artistique commun.\n\nAujourd’hui rattaché aux conservatoires de Melun et Vaux‑le‑Pénil\, l’ensemble ne cesse de se développer. Chaque année\, il attire un nombre croissant d’élèves issus des conservatoires partenaires\, ainsi que de nombreux musiciens amateurs extérieurs qui viennent enrichir ses rangs et contribuer à son dynamisme.\nSous l’impulsion de Cécile Montbessoux\, l’orchestre s’est imposé comme un acteur incontournable de la vie musicale locale\, porté par une direction artistique alliant exigence\, énergie et esprit fédérateur.\n\n\n\n\n\n\n\nGratuit\n\n\n\nDurée 75 min\n Tout public à partir de 10 ans  \nRéservation 01 64 52 00 53 \n  \n\n\n\n\n\n\n\n\nTitle\n\n\n\nClick here to change this text
URL:https://sortiramelun.fr/evenement/concert-de-lorchestre-dharmonie-des-conservatoires-partenaires/
LOCATION:Conservatoire Les Deux Muses\, 26 Avenue Georges Pompidou\, Melun\, 77000\, France
ATTACH;FMTTYPE=image/png:https://sortiramelun.fr/wp-content/uploads/2026/03/OH1.png
END:VEVENT
END:VCALENDAR