BEGIN:VCALENDAR
VERSION:2.0
PRODID:-//Sortir à Melun ! - ECPv6.15.12.2//NONSGML v1.0//EN
CALSCALE:GREGORIAN
METHOD:PUBLISH
X-ORIGINAL-URL:https://sortiramelun.fr
X-WR-CALDESC:Évènements pour Sortir à Melun !
REFRESH-INTERVAL;VALUE=DURATION:PT1H
X-Robots-Tag:noindex
X-PUBLISHED-TTL:PT1H
BEGIN:VTIMEZONE
TZID:Europe/Paris
BEGIN:DAYLIGHT
TZOFFSETFROM:+0100
TZOFFSETTO:+0200
TZNAME:CEST
DTSTART:20250330T010000
END:DAYLIGHT
BEGIN:STANDARD
TZOFFSETFROM:+0200
TZOFFSETTO:+0100
TZNAME:CET
DTSTART:20251026T010000
END:STANDARD
BEGIN:DAYLIGHT
TZOFFSETFROM:+0100
TZOFFSETTO:+0200
TZNAME:CEST
DTSTART:20260329T010000
END:DAYLIGHT
BEGIN:STANDARD
TZOFFSETFROM:+0200
TZOFFSETTO:+0100
TZNAME:CET
DTSTART:20261025T010000
END:STANDARD
BEGIN:DAYLIGHT
TZOFFSETFROM:+0100
TZOFFSETTO:+0200
TZNAME:CEST
DTSTART:20270328T010000
END:DAYLIGHT
BEGIN:STANDARD
TZOFFSETFROM:+0200
TZOFFSETTO:+0100
TZNAME:CET
DTSTART:20271031T010000
END:STANDARD
END:VTIMEZONE
BEGIN:VEVENT
DTSTART;TZID=Europe/Paris:20260516T153000
DTEND;TZID=Europe/Paris:20260516T173000
DTSTAMP:20260420T231032
CREATED:20260420T101059Z
LAST-MODIFIED:20260420T101059Z
UID:10001877-1778945400-1778952600@sortiramelun.fr
SUMMARY:SAMEDI PHILO
DESCRIPTION:Présentation\n\n\n\n\n\nSAMEDI PHILO Qu’est-ce que le Samedi Philo ? Les participants proposent des thèmes qui leur tiennent à cœur\, puis choisissent celui qui les intéresse. Les sujets ne sont pas prévus à l’avance. Chacun apporte sa pierre à l’édifice. Il n’est donc pas nécessaire d’être féru de philosophie pour participer aux débats. La parole est libre. La philosophe Zelda ATTALI donne à tous la possibilité de s’exprimer et d’aller jusqu’au bout de ses pensées. \nDÈS 15 ANS \n\n\n\n\n\n\nGratuit \nEntrée libre \n\n\n  \nMédiathèque Astrolabe\n\n\n25\, rue du château 77000 Melun\n01 60 56 04 70 \n\ncontact@astrolabe-melun.fr
URL:https://sortiramelun.fr/evenement/samedi-philo-2/
LOCATION:Médiathèque Astrolabe\, 25\, rue du Château\, MELUN\, 77000\, France
CATEGORIES:Atelier
ATTACH;FMTTYPE=image/jpeg:https://sortiramelun.fr/wp-content/uploads/2026/04/samediphilo2026500x500.jpg
ORGANIZER;CN="M%C3%A9diath%C3%A8que Astrolabe":MAILTO:contact@astrolabe-melun.fr
END:VEVENT
END:VCALENDAR