BEGIN:VCALENDAR
VERSION:2.0
PRODID:-//Sortir à Melun ! - ECPv6.15.12.2//NONSGML v1.0//EN
CALSCALE:GREGORIAN
METHOD:PUBLISH
X-ORIGINAL-URL:https://sortiramelun.fr
X-WR-CALDESC:Évènements pour Sortir à Melun !
REFRESH-INTERVAL;VALUE=DURATION:PT1H
X-Robots-Tag:noindex
X-PUBLISHED-TTL:PT1H
BEGIN:VTIMEZONE
TZID:Europe/Paris
BEGIN:DAYLIGHT
TZOFFSETFROM:+0100
TZOFFSETTO:+0200
TZNAME:CEST
DTSTART:20240331T010000
END:DAYLIGHT
BEGIN:STANDARD
TZOFFSETFROM:+0200
TZOFFSETTO:+0100
TZNAME:CET
DTSTART:20241027T010000
END:STANDARD
BEGIN:DAYLIGHT
TZOFFSETFROM:+0100
TZOFFSETTO:+0200
TZNAME:CEST
DTSTART:20250330T010000
END:DAYLIGHT
BEGIN:STANDARD
TZOFFSETFROM:+0200
TZOFFSETTO:+0100
TZNAME:CET
DTSTART:20251026T010000
END:STANDARD
BEGIN:DAYLIGHT
TZOFFSETFROM:+0100
TZOFFSETTO:+0200
TZNAME:CEST
DTSTART:20260329T010000
END:DAYLIGHT
BEGIN:STANDARD
TZOFFSETFROM:+0200
TZOFFSETTO:+0100
TZNAME:CET
DTSTART:20261025T010000
END:STANDARD
END:VTIMEZONE
BEGIN:VEVENT
DTSTART;TZID=Europe/Paris:20250614T203000
DTEND;TZID=Europe/Paris:20250614T213000
DTSTAMP:20260424T132038
CREATED:20240624T114738Z
LAST-MODIFIED:20250409T092340Z
UID:10001355-1749933000-1749936600@sortiramelun.fr
SUMMARY:Chorale Syrinx
DESCRIPTION:Par la Chorale Syrinx \n\n\n\n\n\n\n\n\n\n\n\n\n\n\n\n\n\nPrésentation\n\n\n\nFocus\n\n\n\nGénérique\n\n\n\n\n\nLa chorale Syrinx de Melun participe depuis de nombreuses années au rayonnement musical de la région Melunaise. Leur concert annuel attire chaque année les amateurs de musique classique.  \nLa chorale dispose d’un répertoire varié allant d’airs classiques à d’autres plus contemporains. Depuis sa création\, elle a mis plusieurs fois à son programme le compositeur anglais John RUTTER (Requiem\, Gloria\, Psalmfest …). \nCette année\, elle programme le Magnificat\, œuvre musicale de 1990 qui s’appuie sur le cantique de Marie. Il est fondé sur le texte latin entremêlé d’un poème marial anglais « Of a rose\, a lovely Rose ». \nPar ailleurs\, la chorale propose quelques polyphonies contemporaines ou classiques accompagnées au piano ou à l’orgue (Spirituals\, Psaumes\, ). L’ensemble est accompagné par le pianiste Etienne Goepp\, professeur de piano au conservatoire de Melun. La chorale est dirigée par Pierre Adam\, professeur de formation musicale et de chant choral. \n\n\n\n\nLa Chorale\nCréée en 1970\, la Chorale Syrinx a abordé pendant une vingtaine d’années le vaste répertoire « à capella » du chant choral (chœurs de la renaissance\, contemporains\, musiques populaires). \nProgressivement\, les choristes devenant plus nombreux\, et sous l’impulsion de son chef\, Pierre Adam\, professeur de chant choral et de formation musicale\, la chorale Syrinx s’est orientée vers l’interprétation de cantates nécessitant divers ensembles instrumentaux pour aller à la découverte de compositeurs ou de partitions parfois injustement méconnus\, avec la participation d’instrumentistes et de solistes de la région tels que Catherine Hennequin \, Gil Chazallet \, Nadège Bensimon. \nActuellement accompagnée par Etienne Goepp\, professeur de piano au conservatoire de Melun\, la chorale Syrinx profite de ses qualités musicales pour aborder le répertoire romantique et contemporain lié à cet instrument ( Schubert\, Schumann\, Franck\, Fauré\, Brahms\, Cosma\, Daunais…) \n\n\n\n\nPhotos © Chorale Syrinx \n\n\n\n\n\nBilletterie\n\nDurée 1h\n Tout public  \nTarifs\nPlein tarif 13€ / réduit 10€ / ECL 8€ \nRéservation 01 64 52 10 95 \n Billetterie sur place  \n\n\n\n\n\n\n\n\n+ D′INFOS\n\n\n\nBilletterie au 01 64 52 10 95 \nwww.chorale-syrinx-de-melun.fr
URL:https://sortiramelun.fr/evenement/chorale-syrinx-3/
LOCATION:Collégiale Notre-Dame\, 1 rue de la Courtille\, Melun\, 77000\, France
CATEGORIES:Concert,Musique,Musique classique,Spectacles
ATTACH;FMTTYPE=image/jpeg:https://sortiramelun.fr/wp-content/uploads/2024/06/Chorale-Syrinx-scaled.jpg
ORGANIZER;CN="Service du D%C3%A9veloppement Culturel":MAILTO:culture@ville-melun.fr
END:VEVENT
END:VCALENDAR