BEGIN:VCALENDAR
VERSION:2.0
PRODID:-//Sortir à Melun ! - ECPv6.15.12.2//NONSGML v1.0//EN
CALSCALE:GREGORIAN
METHOD:PUBLISH
X-WR-CALNAME:Sortir à Melun !
X-ORIGINAL-URL:https://sortiramelun.fr
X-WR-CALDESC:Évènements pour Sortir à Melun !
REFRESH-INTERVAL;VALUE=DURATION:PT1H
X-Robots-Tag:noindex
X-PUBLISHED-TTL:PT1H
BEGIN:VTIMEZONE
TZID:Europe/Paris
BEGIN:DAYLIGHT
TZOFFSETFROM:+0100
TZOFFSETTO:+0200
TZNAME:CEST
DTSTART:20250330T010000
END:DAYLIGHT
BEGIN:STANDARD
TZOFFSETFROM:+0200
TZOFFSETTO:+0100
TZNAME:CET
DTSTART:20251026T010000
END:STANDARD
BEGIN:DAYLIGHT
TZOFFSETFROM:+0100
TZOFFSETTO:+0200
TZNAME:CEST
DTSTART:20260329T010000
END:DAYLIGHT
BEGIN:STANDARD
TZOFFSETFROM:+0200
TZOFFSETTO:+0100
TZNAME:CET
DTSTART:20261025T010000
END:STANDARD
BEGIN:DAYLIGHT
TZOFFSETFROM:+0100
TZOFFSETTO:+0200
TZNAME:CEST
DTSTART:20270328T010000
END:DAYLIGHT
BEGIN:STANDARD
TZOFFSETFROM:+0200
TZOFFSETTO:+0100
TZNAME:CET
DTSTART:20271031T010000
END:STANDARD
END:VTIMEZONE
BEGIN:VEVENT
DTSTART;TZID=Europe/Paris:20260606T153000
DTEND;TZID=Europe/Paris:20260606T170000
DTSTAMP:20260420T212818
CREATED:20260420T125409Z
LAST-MODIFIED:20260420T125409Z
UID:10001884-1780759800-1780765200@sortiramelun.fr
SUMMARY:Café littéraire
DESCRIPTION:Présentation\n\n\n\n\n\nEnvie de lire\, de découvrir et d’échanger ? Venez partager une pause conviviale autour des nouveautés littéraires en avant-première… et n’oubliez pas votre mug pour accompagner ce moment gourmand ! \n\n\n\n\n\n\nGratuit \nEntrée libre \nPublic dès 15 ans \n\n\nMédiathèque Astrolabe\n\n\n25\, rue du château 77000 Melun\n\n01 60 56 04 70\ncontact@astrolabe-melun.fr
URL:https://sortiramelun.fr/evenement/cafe-litteraire/
LOCATION:Médiathèque Astrolabe\, 25\, rue du Château\, MELUN\, 77000\, France
CATEGORIES:Café littéraire,Lecture,Rencontre
ATTACH;FMTTYPE=image/jpeg:https://sortiramelun.fr/wp-content/uploads/2026/04/CafeLit500x500.jpg
ORGANIZER;CN="M%C3%A9diath%C3%A8que Astrolabe":MAILTO:contact@astrolabe-melun.fr
END:VEVENT
END:VCALENDAR