BEGIN:VCALENDAR
VERSION:2.0
PRODID:-//Sortir à Melun ! - ECPv6.15.12.2//NONSGML v1.0//EN
CALSCALE:GREGORIAN
METHOD:PUBLISH
X-WR-CALNAME:Sortir à Melun !
X-ORIGINAL-URL:https://sortiramelun.fr
X-WR-CALDESC:Évènements pour Sortir à Melun !
REFRESH-INTERVAL;VALUE=DURATION:PT1H
X-Robots-Tag:noindex
X-PUBLISHED-TTL:PT1H
BEGIN:VTIMEZONE
TZID:Europe/Paris
BEGIN:DAYLIGHT
TZOFFSETFROM:+0100
TZOFFSETTO:+0200
TZNAME:CEST
DTSTART:20220327T010000
END:DAYLIGHT
BEGIN:STANDARD
TZOFFSETFROM:+0200
TZOFFSETTO:+0100
TZNAME:CET
DTSTART:20221030T010000
END:STANDARD
BEGIN:DAYLIGHT
TZOFFSETFROM:+0100
TZOFFSETTO:+0200
TZNAME:CEST
DTSTART:20230326T010000
END:DAYLIGHT
BEGIN:STANDARD
TZOFFSETFROM:+0200
TZOFFSETTO:+0100
TZNAME:CET
DTSTART:20231029T010000
END:STANDARD
BEGIN:DAYLIGHT
TZOFFSETFROM:+0100
TZOFFSETTO:+0200
TZNAME:CEST
DTSTART:20240331T010000
END:DAYLIGHT
BEGIN:STANDARD
TZOFFSETFROM:+0200
TZOFFSETTO:+0100
TZNAME:CET
DTSTART:20241027T010000
END:STANDARD
BEGIN:DAYLIGHT
TZOFFSETFROM:+0100
TZOFFSETTO:+0200
TZNAME:CEST
DTSTART:20250330T010000
END:DAYLIGHT
BEGIN:STANDARD
TZOFFSETFROM:+0200
TZOFFSETTO:+0100
TZNAME:CET
DTSTART:20251026T010000
END:STANDARD
BEGIN:DAYLIGHT
TZOFFSETFROM:+0100
TZOFFSETTO:+0200
TZNAME:CEST
DTSTART:20260329T010000
END:DAYLIGHT
BEGIN:STANDARD
TZOFFSETFROM:+0200
TZOFFSETTO:+0100
TZNAME:CET
DTSTART:20261025T010000
END:STANDARD
BEGIN:DAYLIGHT
TZOFFSETFROM:+0100
TZOFFSETTO:+0200
TZNAME:CEST
DTSTART:20270328T010000
END:DAYLIGHT
BEGIN:STANDARD
TZOFFSETFROM:+0200
TZOFFSETTO:+0100
TZNAME:CET
DTSTART:20271031T010000
END:STANDARD
END:VTIMEZONE
BEGIN:VEVENT
DTSTART;TZID=Europe/Paris:20260208T100000
DTEND;TZID=Europe/Paris:20260208T180000
DTSTAMP:20260421T141929
CREATED:20260118T203511Z
LAST-MODIFIED:20260118T203824Z
UID:10001772-1770544800-1770573600@sortiramelun.fr
SUMMARY:La 8ᵉ édition du Vide-Dressing "Eco Fashion Friendly"
DESCRIPTION:Présentation\n\n\n\n\n\nLa 8ᵉ édition du Vide-Dressing « Eco Fashion Friendly » arrive à L’Escale\, Melun ! 🎉\nC’est l’occasion parfaite pour :\n\n\nDénicher de nouvelles pièces pour compléter votre garde-robe\n\n\nProfiter des avantages de la seconde main\n\n\nTrouver des vêtements et accessoires pour femmes\, hommes\, ados et enfants\n\n\n🗓️​Notez la date dans votre agenda et venez vivre une expérience mode responsable et conviviale !\n\n\nOn vous attend !\n\n\n\n\n\n\n\nEntrée libre\n\n\n  \nInformations :📞 01 64 19 41 09📧 escale@ville-melun.fr \n 
URL:https://sortiramelun.fr/evenement/la-8%e1%b5%89-edition-du-vide-dressing-eco-fashion-friendly/
LOCATION:L’Escale\, Avenue de la 7e Division Blindée Americaine\, Melun\, 77000\, France
CATEGORIES:Salon,Vide dressing
ATTACH;FMTTYPE=image/jpeg:https://sortiramelun.fr/wp-content/uploads/2026/01/VIDE-DRESSING-SORTIR.jpg
ORGANIZER;CN="L'Escale":MAILTO:escale@ville-melun.fr
END:VEVENT
BEGIN:VEVENT
DTSTART;TZID=Europe/Paris:20250322T100000
DTEND;TZID=Europe/Paris:20250322T200000
DTSTAMP:20260421T141929
CREATED:20231207T223012Z
LAST-MODIFIED:20250222T110832Z
UID:10001124-1742637600-1742673600@sortiramelun.fr
SUMMARY:La 7ème Edition "Vide-Dressing « Eco Fashion Friendly»
DESCRIPTION:En partenariat avec \nTous en Scène pour L’Espace bar \n GNC SECURITE pour flâner en tout sécurité \n\n\n\n\n\n\n\n\n\n\n\n\n\n\n\n\n\n\n\n\n\n\n\n\n\n\n\n\n\n\nPrésentation\n\n\n\n\n\nCoup d’envoi du Vide-Dressing « Eco Fashion Friendly L’Escale-Melun » \nVous aimez la mode  C’est l’occasion de dénicher de nouvelles pièces pour compléter votre garde-robe et de profiter des avantages de second main.\n(Femmes\, Hommes\, Ados\, Enfants) \nAlors noter la date dans votre agenda. \n\n\n\n\n\n\nGratuit\nEntrée libre\n\n\n\n Tout public \nInformation : 01 64 19 41 09 \nescale@ville-melun.fr \n  \n\n\n\n\n\n\n\n\nDOC À TÉLÉCHARGER
URL:https://sortiramelun.fr/evenement/la-6eme-edition-vide-dressing-eco-fashion-friendly/
LOCATION:L’Escale\, Avenue de la 7e Division Blindée Americaine\, Melun\, 77000\, France
CATEGORIES:Salon,Vide dressing
ATTACH;FMTTYPE=image/jpeg:https://sortiramelun.fr/wp-content/uploads/2023/12/2025-03-22_Vide-Dressing_WEB-SITE-.jpg
ORGANIZER;CN="L'Escale":MAILTO:escale@ville-melun.fr
END:VEVENT
BEGIN:VEVENT
DTSTART;TZID=Europe/Paris:20230129T100000
DTEND;TZID=Europe/Paris:20230129T180000
DTSTAMP:20260421T141929
CREATED:20221208T181725Z
LAST-MODIFIED:20230107T234423Z
UID:10000439-1674986400-1675015200@sortiramelun.fr
SUMMARY:Vide Dressing - 5ème édition
DESCRIPTION:L’ESCALE \n\n\n\n\n\n\n\n\n\n\n\n\n\n\n \nPartenaire \n\n\n\n\n\n\n\n\n\n\n\n\n\n\n\n\n\nPrésentation\n\n\n\n\n\nLa 5ème Edition « Vide Dressing » chic à suivre ! \n Le marché du vêtement de seconde main est devenu très tendance ! \nVous y trouverez vêtements à froufrou\, en soie…\, chaussures à talons\, sacs colorés\, chapeaux vintages\, bijoux fantaisie\, manteaux et accessoires en tout genre ! \nC’est parti pour une journée de folie ! \nDerrière cet événement se cache un concept original : Vous faire chouchouter entre deux achats avec un soin des mains ou un massage sur chaise. \nCôté recyclage\, un atelier couture. \nSans oublier\, une exposition photos sur la mode\, le tout sur fond de musique. \nC’est donc dans une ambiance chaleureuse que vous pourrez chiner de nombreuses pièces branchées. \n\n\n\n\n\n\n\n\nEntrée libre\n\n\nDurée : Toute la journée \n Tout public  \n 
URL:https://sortiramelun.fr/evenement/vide-dressing/
LOCATION:L’Escale\, Avenue de la 7e Division Blindée Americaine\, Melun\, 77000\, France
CATEGORIES:Vide dressing
ATTACH;FMTTYPE=image/jpeg:https://sortiramelun.fr/wp-content/uploads/2022/12/Vide-Dressing.jpeg
ORGANIZER;CN="L'Escale":MAILTO:escale@ville-melun.fr
END:VEVENT
END:VCALENDAR